BEGIN:VCALENDAR
VERSION:2.0
PRODID:-//MINNESOTA LEATHER PRIDE - ECPv6.15.18//NONSGML v1.0//EN
CALSCALE:GREGORIAN
METHOD:PUBLISH
X-WR-CALNAME:MINNESOTA LEATHER PRIDE
X-ORIGINAL-URL:https://www.mnleatherpride.org
X-WR-CALDESC:Events for MINNESOTA LEATHER PRIDE
REFRESH-INTERVAL;VALUE=DURATION:PT1H
X-Robots-Tag:noindex
X-PUBLISHED-TTL:PT1H
BEGIN:VTIMEZONE
TZID:America/Chicago
BEGIN:DAYLIGHT
TZOFFSETFROM:-0600
TZOFFSETTO:-0500
TZNAME:CDT
DTSTART:20260308T080000
END:DAYLIGHT
BEGIN:STANDARD
TZOFFSETFROM:-0500
TZOFFSETTO:-0600
TZNAME:CST
DTSTART:20261101T070000
END:STANDARD
BEGIN:DAYLIGHT
TZOFFSETFROM:-0600
TZOFFSETTO:-0500
TZNAME:CDT
DTSTART:20270314T080000
END:DAYLIGHT
BEGIN:STANDARD
TZOFFSETFROM:-0500
TZOFFSETTO:-0600
TZNAME:CST
DTSTART:20271107T070000
END:STANDARD
BEGIN:DAYLIGHT
TZOFFSETFROM:-0600
TZOFFSETTO:-0500
TZNAME:CDT
DTSTART:20280312T080000
END:DAYLIGHT
BEGIN:STANDARD
TZOFFSETFROM:-0500
TZOFFSETTO:-0600
TZNAME:CST
DTSTART:20281105T070000
END:STANDARD
END:VTIMEZONE
BEGIN:VEVENT
DTSTART;TZID=America/Chicago:20270111T190000
DTEND;TZID=America/Chicago:20270111T210000
DTSTAMP:20260422T054438
CREATED:20230830T032514Z
LAST-MODIFIED:20241214T173649Z
UID:10000996-1799694000-1799701200@www.mnleatherpride.org
SUMMARY:ICOM Board of Directors/General Membership Meeting
DESCRIPTION:ICOM Monthly Board and General Court meeting. \nZoom Link: \nhttps://us02web.zoom.us/j/85859250485?pwd=Y1ppWG5ic3hiWlh1ZmdIRWRjaThRQT09
URL:https://www.mnleatherpride.org/event/icom-board-of-directors-general-membership-meeting-4/2027-01-11/
CATEGORIES:Community Event - Not MNLP sponsored
ATTACH;FMTTYPE=image/webp:https://www.mnleatherpride.org/wp-content/uploads/2023/04/ICOM-board.webp
END:VEVENT
END:VCALENDAR